Workbook

Sheet Gen202..
A1: PRIMA NOTA 202..
D2: CASSA | G2: BANCA
A3: DATA operazione | B3: DESCRIZIONE operazione | C3: TIPO, n° e DATA documento | D3: ENTRATE | E3: USCITE | F3: SALDO | G3: ENTRATE | H3: USCITE | I3: SALDO
A4: 01/01/202.. | B4: Saldo iniziale | F4: 0 | I4: 0
A5: …. | D5: 0 | E5: 0 | F5: =F4+D5-E5 -> 0 | G5: 0 | H5: 0 | I5: =I4+G5-H5 -> 0
D6: 0 | E6: 0 | F6: =F5+D6-E6 -> 0 | G6: 0 | H6: 0 | I6: =I5+G6-H6 -> 0
D7: 0 | E7: 0 | F7: =F6+D7-E7 -> 0 | G7: 0 | H7: 0 | I7: =I6+G7-H7 -> 0
D8: 0 | E8: 0 | F8: =F7+D8-E8 -> 0 | G8: 0 | H8: 0 | I8: =I7+G8-H8 -> 0
D9: 0 | E9: 0 | F9: =F8+D9-E9 -> 0 | G9: 0 | H9: 0 | I9: =I8+G9-H9 -> 0
D10: 0 | E10: 0 | F10: =F9+D10-E10 -> 0 | G10: 0 | H10: 0 | I10: =I9+G10-H10 -> 0
D11: 0 | E11: 0 | F11: =F10+D11-E11 -> 0 | G11: 0 | H11: 0 | I11: =I10+G11-H11 -> 0
D12: 0 | E12: 0 | F12: =F11+D12-E12 -> 0 | G12: 0 | H12: 0 | I12: =I11+G12-H12 -> 0
D13: 0 | E13: 0 | F13: =F12+D13-E13 -> 0 | G13: 0 | H13: 0 | I13: =I12+G13-H13 -> 0
D14: 0 | E14: 0 | F14: =F13+D14-E14 -> 0 | G14: 0 | H14: 0 | I14: =I13+G14-H14 -> 0
D15: 0 | E15: 0 | F15: =F14+D15-E15 -> 0 | G15: 0 | H15: 0 | I15: =I14+G15-H15 -> 0
D16: 0 | E16: 0 | F16: =F15+D16-E16 -> 0 | G16: 0 | H16: 0 | I16: =I15+G16-H16 -> 0
D17: 0 | E17: 0 | F17: =F16+D17-E17 -> 0 | G17: 0 | H17: 0 | I17: =I16+G17-H17 -> 0
... D40: 0 | E40: 0 | F40: =F39+D40-E40 -> 0 | G40: 0 | H40: 0 | I40: =I39+G40-H40 -> 0
A41: 31/01/202… | B41: Saldo finale | D41: =SUM(D5:D40) -> 0 | E41: =SUM(E5:E40) -> 0 | F41: =F4+D41-E41 -> 0 | G41: =SUM(G5:G40) -> 0 | H41: =SUM(H5:H40) -> 0 | I41: =I4+G41-H41 -> 0

Sheet Feb202.. 
A1: PRIMA NOTA 202..
D2: CASSA | G2: BANCA
A3: DATA operazione | B3: DESCRIZIONE operazione | C3: TIPO, n° e DATA documento | D3: ENTRATE | E3: USCITE | F3: SALDO | G3: ENTRATE | H3: USCITE | I3: SALDO
A4: 01/02/202.. | B4: Saldo iniziale | F4: ='Gen202..'!F41 -> 0 | I4: ='Gen202..'!I41 -> 0
A5: …. | D5: 0 | E5: 0 | F5: =F4+D5-E5 -> 0 | G5: 0 | H5: 0 | I5: =I4+G5-H5 -> 0
D6: 0 | E6: 0 | F6: =F5+D6-E6 -> 0 | G6: 0 | H6: 0 | I6: =I5+G6-H6 -> 0
D7: 0 | E7: 0 | F7: =F6+D7-E7 -> 0 | G7: 0 | H7: 0 | I7: =I6+G7-H7 -> 0
D8: 0 | E8: 0 | F8: =F7+D8-E8 -> 0 | G8: 0 | H8: 0 | I8: =I7+G8-H8 -> 0
D9: 0 | E9: 0 | F9: =F8+D9-E9 -> 0 | G9: 0 | H9: 0 | I9: =I8+G9-H9 -> 0
D10: 0 | E10: 0 | F10: =F9+D10-E10 -> 0 | G10: 0 | H10: 0 | I10: =I9+G10-H10 -> 0
D11: 0 | E11: 0 | F11: =F10+D11-E11 -> 0 | G11: 0 | H11: 0 | I11: =I10+G11-H11 -> 0
D12: 0 | E12: 0 | F12: =F11+D12-E12 -> 0 | G12: 0 | H12: 0 | I12: =I11+G12-H12 -> 0
D13: 0 | E13: 0 | F13: =F12+D13-E13 -> 0 | G13: 0 | H13: 0 | I13: =I12+G13-H13 -> 0
D14: 0 | E14: 0 | F14: =F13+D14-E14 -> 0 | G14: 0 | H14: 0 | I14: =I13+G14-H14 -> 0
D15: 0 | E15: 0 | F15: =F14+D15-E15 -> 0 | G15: 0 | H15: 0 | I15: =I14+G15-H15 -> 0
D16: 0 | E16: 0 | F16: =F15+D16-E16 -> 0 | G16: 0 | H16: 0 | I16: =I15+G16-H16 -> 0
D17: 0 | E17: 0 | F17: =F16+D17-E17 -> 0 | G17: 0 | H17: 0 | I17: =I16+G17-H17 -> 0
... D40: 0 | E40: 0 | F40: =F39+D40-E40 -> 0 | G40: 0 | H40: 0 | I40: =I39+G40-H40 -> 0
A41: 31/02/202… | B41: Saldo finale | D41: =SUM(D5:D40) -> 0 | E41: =SUM(E5:E40) -> 0 | F41: =F4+D41-E41 -> 0 | G41: =SUM(G5:G40) -> 0 | H41: =SUM(H5:H40) -> 0 | I41: =I4+G41-H41 -> 0

Sheet Mar202..
A1: PRIMA NOTA 202..
D2: CASSA | G2: BANCA
A3: DATA operazione | B3: DESCRIZIONE operazione | C3: TIPO, n° e DATA documento | D3: ENTRATE | E3: USCITE | F3: SALDO | G3: ENTRATE | H3: USCITE | I3: SALDO
A4: 01/03/202.. | B4: Saldo iniziale | F4: ='Feb202.. '!F41 -> 0 | I4: ='Feb202.. '!I41 -> 0
A5: …. | D5: 0 | E5: 0 | F5: =F4+D5-E5 -> 0 | G5: 0 | H5: 0 | I5: =I4+G5-H5 -> 0
D6: 0 | E6: 0 | F6: =F5+D6-E6 -> 0 | G6: 0 | H6: 0 | I6: =I5+G6-H6 -> 0
D7: 0 | E7: 0 | F7: =F6+D7-E7 -> 0 | G7: 0 | H7: 0 | I7: =I6+G7-H7 -> 0
D8: 0 | E8: 0 | F8: =F7+D8-E8 -> 0 | G8: 0 | H8: 0 | I8: =I7+G8-H8 -> 0
D9: 0 | E9: 0 | F9: =F8+D9-E9 -> 0 | G9: 0 | H9: 0 | I9: =I8+G9-H9 -> 0
D10: 0 | E10: 0 | F10: =F9+D10-E10 -> 0 | G10: 0 | H10: 0 | I10: =I9+G10-H10 -> 0
D11: 0 | E11: 0 | F11: =F10+D11-E11 -> 0 | G11: 0 | H11: 0 | I11: =I10+G11-H11 -> 0
D12: 0 | E12: 0 | F12: =F11+D12-E12 -> 0 | G12: 0 | H12: 0 | I12: =I11+G12-H12 -> 0
D13: 0 | E13: 0 | F13: =F12+D13-E13 -> 0 | G13: 0 | H13: 0 | I13: =I12+G13-H13 -> 0
D14: 0 | E14: 0 | F14: =F13+D14-E14 -> 0 | G14: 0 | H14: 0 | I14: =I13+G14-H14 -> 0
D15: 0 | E15: 0 | F15: =F14+D15-E15 -> 0 | G15: 0 | H15: 0 | I15: =I14+G15-H15 -> 0
D16: 0 | E16: 0 | F16: =F15+D16-E16 -> 0 | G16: 0 | H16: 0 | I16: =I15+G16-H16 -> 0
D17: 0 | E17: 0 | F17: =F16+D17-E17 -> 0 | G17: 0 | H17: 0 | I17: =I16+G17-H17 -> 0
... D40: 0 | E40: 0 | F40: =F39+D40-E40 -> 0 | G40: 0 | H40: 0 | I40: =I39+G40-H40 -> 0
A41: 31/03/202… | B41: Saldo finale | D41: =SUM(D5:D40) -> 0 | E41: =SUM(E5:E40) -> 0 | F41: =F4+D41-E41 -> 0 | G41: =SUM(G5:G40) -> 0 | H41: =SUM(H5:H40) -> 0 | I41: =I4+G41-H41 -> 0

Sheet Apr202..
A1: PRIMA NOTA 202..
D2: CASSA | G2: BANCA
A3: DATA operazione | B3: DESCRIZIONE operazione | C3: TIPO, n° e DATA documento | D3: ENTRATE | E3: USCITE | F3: SALDO | G3: ENTRATE | H3: USCITE | I3: SALDO
A4: 01/04/202.. | B4: Saldo iniziale | F4: ='Mar202..'!F41 -> 0 | I4: ='Mar202..'!I41 -> 0
A5: …. | D5: 0 | E5: 0 | F5: =F4+D5-E5 -> 0 | G5: 0 | H5: 0 | I5: =I4+G5-H5 -> 0
D6: 0 | E6: 0 | F6: =F5+D6-E6 -> 0 | G6: 0 | H6: 0 | I6: =I5+G6-H6 -> 0
D7: 0 | E7: 0 | F7: =F6+D7-E7 -> 0 | G7: 0 | H7: 0 | I7: =I6+G7-H7 -> 0
D8: 0 | E8: 0 | F8: =F7+D8-E8 -> 0 | G8: 0 | H8: 0 | I8: =I7+G8-H8 -> 0
D9: 0 | E9: 0 | F9: =F8+D9-E9 -> 0 | G9: 0 | H9: 0 | I9: =I8+G9-H9 -> 0
D10: 0 | E10: 0 | F10: =F9+D10-E10 -> 0 | G10: 0 | H10: 0 | I10: =I9+G10-H10 -> 0
D11: 0 | E11: 0 | F11: =F10+D11-E11 -> 0 | G11: 0 | H11: 0 | I11: =I10+G11-H11 -> 0
D12: 0 | E12: 0 | F12: =F11+D12-E12 -> 0 | G12: 0 | H12: 0 | I12: =I11+G12-H12 -> 0
D13: 0 | E13: 0 | F13: =F12+D13-E13 -> 0 | G13: 0 | H13: 0 | I13: =I12+G13-H13 -> 0
D14: 0 | E14: 0 | F14: =F13+D14-E14 -> 0 | G14: 0 | H14: 0 | I14: =I13+G14-H14 -> 0
D15: 0 | E15: 0 | F15: =F14+D15-E15 -> 0 | G15: 0 | H15: 0 | I15: =I14+G15-H15 -> 0
D16: 0 | E16: 0 | F16: =F15+D16-E16 -> 0 | G16: 0 | H16: 0 | I16: =I15+G16-H16 -> 0
D17: 0 | E17: 0 | F17: =F16+D17-E17 -> 0 | G17: 0 | H17: 0 | I17: =I16+G17-H17 -> 0
... D40: 0 | E40: 0 | F40: =F39+D40-E40 -> 0 | G40: 0 | H40: 0 | I40: =I39+G40-H40 -> 0
A41: 31/04/202… | B41: Saldo finale | D41: =SUM(D5:D40) -> 0 | E41: =SUM(E5:E40) -> 0 | F41: =F4+D41-E41 -> 0 | G41: =SUM(G5:G40) -> 0 | H41: =SUM(H5:H40) -> 0 | I41: =I4+G41-H41 -> 0

Sheet Mag202..
A1: PRIMA NOTA 202..
D2: CASSA | G2: BANCA
A3: DATA operazione | B3: DESCRIZIONE operazione | C3: TIPO, n° e DATA documento | D3: ENTRATE | E3: USCITE | F3: SALDO | G3: ENTRATE | H3: USCITE | I3: SALDO
A4: 01/05/202.. | B4: Saldo iniziale | F4: ='Apr202..'!F41 -> 0 | I4: ='Apr202..'!I41 -> 0
A5: …. | D5: 0 | E5: 0 | F5: =F4+D5-E5 -> 0 | G5: 0 | H5: 0 | I5: =I4+G5-H5 -> 0
D6: 0 | E6: 0 | F6: =F5+D6-E6 -> 0 | G6: 0 | H6: 0 | I6: =I5+G6-H6 -> 0
D7: 0 | E7: 0 | F7: =F6+D7-E7 -> 0 | G7: 0 | H7: 0 | I7: =I6+G7-H7 -> 0
D8: 0 | E8: 0 | F8: =F7+D8-E8 -> 0 | G8: 0 | H8: 0 | I8: =I7+G8-H8 -> 0
D9: 0 | E9: 0 | F9: =F8+D9-E9 -> 0 | G9: 0 | H9: 0 | I9: =I8+G9-H9 -> 0
D10: 0 | E10: 0 | F10: =F9+D10-E10 -> 0 | G10: 0 | H10: 0 | I10: =I9+G10-H10 -> 0
D11: 0 | E11: 0 | F11: =F10+D11-E11 -> 0 | G11: 0 | H11: 0 | I11: =I10+G11-H11 -> 0
D12: 0 | E12: 0 | F12: =F11+D12-E12 -> 0 | G12: 0 | H12: 0 | I12: =I11+G12-H12 -> 0
D13: 0 | E13: 0 | F13: =F12+D13-E13 -> 0 | G13: 0 | H13: 0 | I13: =I12+G13-H13 -> 0
D14: 0 | E14: 0 | F14: =F13+D14-E14 -> 0 | G14: 0 | H14: 0 | I14: =I13+G14-H14 -> 0
D15: 0 | E15: 0 | F15: =F14+D15-E15 -> 0 | G15: 0 | H15: 0 | I15: =I14+G15-H15 -> 0
D16: 0 | E16: 0 | F16: =F15+D16-E16 -> 0 | G16: 0 | H16: 0 | I16: =I15+G16-H16 -> 0
D17: 0 | E17: 0 | F17: =F16+D17-E17 -> 0 | G17: 0 | H17: 0 | I17: =I16+G17-H17 -> 0
... D40: 0 | E40: 0 | F40: =F39+D40-E40 -> 0 | G40: 0 | H40: 0 | I40: =I39+G40-H40 -> 0
A41: 31/05/202… | B41: Saldo finale | D41: =SUM(D5:D40) -> 0 | E41: =SUM(E5:E40) -> 0 | F41: =F4+D41-E41 -> 0 | G41: =SUM(G5:G40) -> 0 | H41: =SUM(H5:H40) -> 0 | I41: =I4+G41-H41 -> 0

Sheet Giu202..
A1: PRIMA NOTA 202..
D2: CASSA | G2: BANCA
A3: DATA operazione | B3: DESCRIZIONE operazione | C3: TIPO, n° e DATA documento | D3: ENTRATE | E3: USCITE | F3: SALDO | G3: ENTRATE | H3: USCITE | I3: SALDO
A4: 01/06/202.. | B4: Saldo iniziale | F4: ='Mag202..'!F41 -> 0 | I4: ='Mag202..'!I41 -> 0
A5: …. | D5: 0 | E5: 0 | F5: =F4+D5-E5 -> 0 | G5: 0 | H5: 0 | I5: =I4+G5-H5 -> 0
D6: 0 | E6: 0 | F6: =F5+D6-E6 -> 0 | G6: 0 | H6: 0 | I6: =I5+G6-H6 -> 0
D7: 0 | E7: 0 | F7: =F6+D7-E7 -> 0 | G7: 0 | H7: 0 | I7: =I6+G7-H7 -> 0
D8: 0 | E8: 0 | F8: =F7+D8-E8 -> 0 | G8: 0 | H8: 0 | I8: =I7+G8-H8 -> 0
D9: 0 | E9: 0 | F9: =F8+D9-E9 -> 0 | G9: 0 | H9: 0 | I9: =I8+G9-H9 -> 0
D10: 0 | E10: 0 | F10: =F9+D10-E10 -> 0 | G10: 0 | H10: 0 | I10: =I9+G10-H10 -> 0
D11: 0 | E11: 0 | F11: =F10+D11-E11 -> 0 | G11: 0 | H11: 0 | I11: =I10+G11-H11 -> 0
D12: 0 | E12: 0 | F12: =F11+D12-E12 -> 0 | G12: 0 | H12: 0 | I12: =I11+G12-H12 -> 0
D13: 0 | E13: 0 | F13: =F12+D13-E13 -> 0 | G13: 0 | H13: 0 | I13: =I12+G13-H13 -> 0
D14: 0 | E14: 0 | F14: =F13+D14-E14 -> 0 | G14: 0 | H14: 0 | I14: =I13+G14-H14 -> 0
D15: 0 | E15: 0 | F15: =F14+D15-E15 -> 0 | G15: 0 | H15: 0 | I15: =I14+G15-H15 -> 0
D16: 0 | E16: 0 | F16: =F15+D16-E16 -> 0 | G16: 0 | H16: 0 | I16: =I15+G16-H16 -> 0
D17: 0 | E17: 0 | F17: =F16+D17-E17 -> 0 | G17: 0 | H17: 0 | I17: =I16+G17-H17 -> 0
... D40: 0 | E40: 0 | F40: =F39+D40-E40 -> 0 | G40: 0 | H40: 0 | I40: =I39+G40-H40 -> 0
A41: 31/06/202… | B41: Saldo finale | D41: =SUM(D5:D40) -> 0 | E41: =SUM(E5:E40) -> 0 | F41: =F4+D41-E41 -> 0 | G41: =SUM(G5:G40) -> 0 | H41: =SUM(H5:H40) -> 0 | I41: =I4+G41-H41 -> 0

Sheet Lug202..
A1: PRIMA NOTA 202..
D2: CASSA | G2: BANCA
A3: DATA operazione | B3: DESCRIZIONE operazione | C3: TIPO, n° e DATA documento | D3: ENTRATE | E3: USCITE | F3: SALDO | G3: ENTRATE | H3: USCITE | I3: SALDO
A4: 01/07/202.. | B4: Saldo iniziale | F4: ='Giu202..'!F41 -> 0 | I4: ='Giu202..'!I41 -> 0
A5: …. | D5: 0 | E5: 0 | F5: =F4+D5-E5 -> 0 | G5: 0 | H5: 0 | I5: =I4+G5-H5 -> 0
D6: 0 | E6: 0 | F6: =F5+D6-E6 -> 0 | G6: 0 | H6: 0 | I6: =I5+G6-H6 -> 0
D7: 0 | E7: 0 | F7: =F6+D7-E7 -> 0 | G7: 0 | H7: 0 | I7: =I6+G7-H7 -> 0
D8: 0 | E8: 0 | F8: =F7+D8-E8 -> 0 | G8: 0 | H8: 0 | I8: =I7+G8-H8 -> 0
D9: 0 | E9: 0 | F9: =F8+D9-E9 -> 0 | G9: 0 | H9: 0 | I9: =I8+G9-H9 -> 0
D10: 0 | E10: 0 | F10: =F9+D10-E10 -> 0 | G10: 0 | H10: 0 | I10: =I9+G10-H10 -> 0
D11: 0 | E11: 0 | F11: =F10+D11-E11 -> 0 | G11: 0 | H11: 0 | I11: =I10+G11-H11 -> 0
D12: 0 | E12: 0 | F12: =F11+D12-E12 -> 0 | G12: 0 | H12: 0 | I12: =I11+G12-H12 -> 0
D13: 0 | E13: 0 | F13: =F12+D13-E13 -> 0 | G13: 0 | H13: 0 | I13: =I12+G13-H13 -> 0
D14: 0 | E14: 0 | F14: =F13+D14-E14 -> 0 | G14: 0 | H14: 0 | I14: =I13+G14-H14 -> 0
D15: 0 | E15: 0 | F15: =F14+D15-E15 -> 0 | G15: 0 | H15: 0 | I15: =I14+G15-H15 -> 0
D16: 0 | E16: 0 | F16: =F15+D16-E16 -> 0 | G16: 0 | H16: 0 | I16: =I15+G16-H16 -> 0
D17: 0 | E17: 0 | F17: =F16+D17-E17 -> 0 | G17: 0 | H17: 0 | I17: =I16+G17-H17 -> 0
... D40: 0 | E40: 0 | F40: =F39+D40-E40 -> 0 | G40: 0 | H40: 0 | I40: =I39+G40-H40 -> 0
A41: 31/07/202… | B41: Saldo finale | D41: =SUM(D5:D40) -> 0 | E41: =SUM(E5:E40) -> 0 | F41: =F4+D41-E41 -> 0 | G41: =SUM(G5:G40) -> 0 | H41: =SUM(H5:H40) -> 0 | I41: =I4+G41-H41 -> 0

Sheet Ago202..
A1: PRIMA NOTA 202..
D2: CASSA | G2: BANCA
A3: DATA operazione | B3: DESCRIZIONE operazione | C3: TIPO, n° e DATA documento | D3: ENTRATE | E3: USCITE | F3: SALDO | G3: ENTRATE | H3: USCITE | I3: SALDO
A4: 01/08/202.. | B4: Saldo iniziale | F4: ='Lug202..'!F41 -> 0 | I4: ='Lug202..'!I41 -> 0
A5: …. | D5: 0 | E5: 0 | F5: =F4+D5-E5 -> 0 | G5: 0 | H5: 0 | I5: =I4+G5-H5 -> 0
D6: 0 | E6: 0 | F6: =F5+D6-E6 -> 0 | G6: 0 | H6: 0 | I6: =I5+G6-H6 -> 0
D7: 0 | E7: 0 | F7: =F6+D7-E7 -> 0 | G7: 0 | H7: 0 | I7: =I6+G7-H7 -> 0
D8: 0 | E8: 0 | F8: =F7+D8-E8 -> 0 | G8: 0 | H8: 0 | I8: =I7+G8-H8 -> 0
D9: 0 | E9: 0 | F9: =F8+D9-E9 -> 0 | G9: 0 | H9: 0 | I9: =I8+G9-H9 -> 0
D10: 0 | E10: 0 | F10: =F9+D10-E10 -> 0 | G10: 0 | H10: 0 | I10: =I9+G10-H10 -> 0
D11: 0 | E11: 0 | F11: =F10+D11-E11 -> 0 | G11: 0 | H11: 0 | I11: =I10+G11-H11 -> 0
D12: 0 | E12: 0 | F12: =F11+D12-E12 -> 0 | G12: 0 | H12: 0 | I12: =I11+G12-H12 -> 0
D13: 0 | E13: 0 | F13: =F12+D13-E13 -> 0 | G13: 0 | H13: 0 | I13: =I12+G13-H13 -> 0
D14: 0 | E14: 0 | F14: =F13+D14-E14 -> 0 | G14: 0 | H14: 0 | I14: =I13+G14-H14 -> 0
D15: 0 | E15: 0 | F15: =F14+D15-E15 -> 0 | G15: 0 | H15: 0 | I15: =I14+G15-H15 -> 0
D16: 0 | E16: 0 | F16: =F15+D16-E16 -> 0 | G16: 0 | H16: 0 | I16: =I15+G16-H16 -> 0
D17: 0 | E17: 0 | F17: =F16+D17-E17 -> 0 | G17: 0 | H17: 0 | I17: =I16+G17-H17 -> 0
... D40: 0 | E40: 0 | F40: =F39+D40-E40 -> 0 | G40: 0 | H40: 0 | I40: =I39+G40-H40 -> 0
A41: 31/08/202… | B41: Saldo finale | D41: =SUM(D5:D40) -> 0 | E41: =SUM(E5:E40) -> 0 | F41: =F4+D41-E41 -> 0 | G41: =SUM(G5:G40) -> 0 | H41: =SUM(H5:H40) -> 0 | I41: =I4+G41-H41 -> 0

Sheet Set202..
A1: PRIMA NOTA 202..
D2: CASSA | G2: BANCA
A3: DATA operazione | B3: DESCRIZIONE operazione | C3: TIPO, n° e DATA documento | D3: ENTRATE | E3: USCITE | F3: SALDO | G3: ENTRATE | H3: USCITE | I3: SALDO
A4: 01/09/202.. | B4: Saldo iniziale | F4: ='Ago202..'!F41 -> 0 | I4: ='Ago202..'!I41 -> 0
A5: …. | D5: 0 | E5: 0 | F5: =F4+D5-E5 -> 0 | G5: 0 | H5: 0 | I5: =I4+G5-H5 -> 0
D6: 0 | E6: 0 | F6: =F5+D6-E6 -> 0 | G6: 0 | H6: 0 | I6: =I5+G6-H6 -> 0
D7: 0 | E7: 0 | F7: =F6+D7-E7 -> 0 | G7: 0 | H7: 0 | I7: =I6+G7-H7 -> 0
D8: 0 | E8: 0 | F8: =F7+D8-E8 -> 0 | G8: 0 | H8: 0 | I8: =I7+G8-H8 -> 0
D9: 0 | E9: 0 | F9: =F8+D9-E9 -> 0 | G9: 0 | H9: 0 | I9: =I8+G9-H9 -> 0
D10: 0 | E10: 0 | F10: =F9+D10-E10 -> 0 | G10: 0 | H10: 0 | I10: =I9+G10-H10 -> 0
D11: 0 | E11: 0 | F11: =F10+D11-E11 -> 0 | G11: 0 | H11: 0 | I11: =I10+G11-H11 -> 0
D12: 0 | E12: 0 | F12: =F11+D12-E12 -> 0 | G12: 0 | H12: 0 | I12: =I11+G12-H12 -> 0
D13: 0 | E13: 0 | F13: =F12+D13-E13 -> 0 | G13: 0 | H13: 0 | I13: =I12+G13-H13 -> 0
D14: 0 | E14: 0 | F14: =F13+D14-E14 -> 0 | G14: 0 | H14: 0 | I14: =I13+G14-H14 -> 0
D15: 0 | E15: 0 | F15: =F14+D15-E15 -> 0 | G15: 0 | H15: 0 | I15: =I14+G15-H15 -> 0
D16: 0 | E16: 0 | F16: =F15+D16-E16 -> 0 | G16: 0 | H16: 0 | I16: =I15+G16-H16 -> 0
D17: 0 | E17: 0 | F17: =F16+D17-E17 -> 0 | G17: 0 | H17: 0 | I17: =I16+G17-H17 -> 0
... D40: 0 | E40: 0 | F40: =F39+D40-E40 -> 0 | G40: 0 | H40: 0 | I40: =I39+G40-H40 -> 0
A41: 31/09/202… | B41: Saldo finale | D41: =SUM(D5:D40) -> 0 | E41: =SUM(E5:E40) -> 0 | F41: =F4+D41-E41 -> 0 | G41: =SUM(G5:G40) -> 0 | H41: =SUM(H5:H40) -> 0 | I41: =I4+G41-H41 -> 0

Sheet Ott202..
A1: PRIMA NOTA 202..
D2: CASSA | G2: BANCA
A3: DATA operazione | B3: DESCRIZIONE operazione | C3: TIPO, n° e DATA documento | D3: ENTRATE | E3: USCITE | F3: SALDO | G3: ENTRATE | H3: USCITE | I3: SALDO
A4: 01/10/202.. | B4: Saldo iniziale | F4: ='Set202..'!F41 -> 0 | I4: ='Set202..'!I41 -> 0
A5: …. | D5: 0 | E5: 0 | F5: =F4+D5-E5 -> 0 | G5: 0 | H5: 0 | I5: =I4+G5-H5 -> 0
D6: 0 | E6: 0 | F6: =F5+D6-E6 -> 0 | G6: 0 | H6: 0 | I6: =I5+G6-H6 -> 0
D7: 0 | E7: 0 | F7: =F6+D7-E7 -> 0 | G7: 0 | H7: 0 | I7: =I6+G7-H7 -> 0
D8: 0 | E8: 0 | F8: =F7+D8-E8 -> 0 | G8: 0 | H8: 0 | I8: =I7+G8-H8 -> 0
D9: 0 | E9: 0 | F9: =F8+D9-E9 -> 0 | G9: 0 | H9: 0 | I9: =I8+G9-H9 -> 0
D10: 0 | E10: 0 | F10: =F9+D10-E10 -> 0 | G10: 0 | H10: 0 | I10: =I9+G10-H10 -> 0
D11: 0 | E11: 0 | F11: =F10+D11-E11 -> 0 | G11: 0 | H11: 0 | I11: =I10+G11-H11 -> 0
D12: 0 | E12: 0 | F12: =F11+D12-E12 -> 0 | G12: 0 | H12: 0 | I12: =I11+G12-H12 -> 0
D13: 0 | E13: 0 | F13: =F12+D13-E13 -> 0 | G13: 0 | H13: 0 | I13: =I12+G13-H13 -> 0
D14: 0 | E14: 0 | F14: =F13+D14-E14 -> 0 | G14: 0 | H14: 0 | I14: =I13+G14-H14 -> 0
D15: 0 | E15: 0 | F15: =F14+D15-E15 -> 0 | G15: 0 | H15: 0 | I15: =I14+G15-H15 -> 0
D16: 0 | E16: 0 | F16: =F15+D16-E16 -> 0 | G16: 0 | H16: 0 | I16: =I15+G16-H16 -> 0
D17: 0 | E17: 0 | F17: =F16+D17-E17 -> 0 | G17: 0 | H17: 0 | I17: =I16+G17-H17 -> 0
... D40: 0 | E40: 0 | F40: =F39+D40-E40 -> 0 | G40: 0 | H40: 0 | I40: =I39+G40-H40 -> 0
A41: 31/10/202… | B41: Saldo finale | D41: =SUM(D5:D40) -> 0 | E41: =SUM(E5:E40) -> 0 | F41: =F4+D41-E41 -> 0 | G41: =SUM(G5:G40) -> 0 | H41: =SUM(H5:H40) -> 0 | I41: =I4+G41-H41 -> 0

Sheet Nov202..
A1: PRIMA NOTA 202..
D2: CASSA | G2: BANCA
A3: DATA operazione | B3: DESCRIZIONE operazione | C3: TIPO, n° e DATA documento | D3: ENTRATE | E3: USCITE | F3: SALDO | G3: ENTRATE | H3: USCITE | I3: SALDO
A4: 01/11/202.. | B4: Saldo iniziale | F4: ='Ott202..'!F41 -> 0 | I4: ='Ott202..'!I41 -> 0
A5: …. | D5: 0 | E5: 0 | F5: =F4+D5-E5 -> 0 | G5: 0 | H5: 0 | I5: =I4+G5-H5 -> 0
D6: 0 | E6: 0 | F6: =F5+D6-E6 -> 0 | G6: 0 | H6: 0 | I6: =I5+G6-H6 -> 0
D7: 0 | E7: 0 | F7: =F6+D7-E7 -> 0 | G7: 0 | H7: 0 | I7: =I6+G7-H7 -> 0
D8: 0 | E8: 0 | F8: =F7+D8-E8 -> 0 | G8: 0 | H8: 0 | I8: =I7+G8-H8 -> 0
D9: 0 | E9: 0 | F9: =F8+D9-E9 -> 0 | G9: 0 | H9: 0 | I9: =I8+G9-H9 -> 0
D10: 0 | E10: 0 | F10: =F9+D10-E10 -> 0 | G10: 0 | H10: 0 | I10: =I9+G10-H10 -> 0
D11: 0 | E11: 0 | F11: =F10+D11-E11 -> 0 | G11: 0 | H11: 0 | I11: =I10+G11-H11 -> 0
D12: 0 | E12: 0 | F12: =F11+D12-E12 -> 0 | G12: 0 | H12: 0 | I12: =I11+G12-H12 -> 0
D13: 0 | E13: 0 | F13: =F12+D13-E13 -> 0 | G13: 0 | H13: 0 | I13: =I12+G13-H13 -> 0
D14: 0 | E14: 0 | F14: =F13+D14-E14 -> 0 | G14: 0 | H14: 0 | I14: =I13+G14-H14 -> 0
D15: 0 | E15: 0 | F15: =F14+D15-E15 -> 0 | G15: 0 | H15: 0 | I15: =I14+G15-H15 -> 0
D16: 0 | E16: 0 | F16: =F15+D16-E16 -> 0 | G16: 0 | H16: 0 | I16: =I15+G16-H16 -> 0
D17: 0 | E17: 0 | F17: =F16+D17-E17 -> 0 | G17: 0 | H17: 0 | I17: =I16+G17-H17 -> 0
... D40: 0 | E40: 0 | F40: =F39+D40-E40 -> 0 | G40: 0 | H40: 0 | I40: =I39+G40-H40 -> 0
A41: 31/11/202… | B41: Saldo finale | D41: =SUM(D5:D40) -> 0 | E41: =SUM(E5:E40) -> 0 | F41: =F4+D41-E41 -> 0 | G41: =SUM(G5:G40) -> 0 | H41: =SUM(H5:H40) -> 0 | I41: =I4+G41-H41 -> 0

Sheet Dic202..
A1: PRIMA NOTA 202..
D2: CASSA | G2: BANCA
A3: DATA operazione | B3: DESCRIZIONE operazione | C3: TIPO, n° e DATA documento | D3: ENTRATE | E3: USCITE | F3: SALDO | G3: ENTRATE | H3: USCITE | I3: SALDO
A4: 01/12/202.. | B4: Saldo iniziale | F4: ='Nov202..'!F41 -> 0 | I4: ='Nov202..'!I41 -> 0
A5: …. | D5: 0 | E5: 0 | F5: =F4+D5-E5 -> 0 | G5: 0 | H5: 0 | I5: =I4+G5-H5 -> 0
D6: 0 | E6: 0 | F6: =F5+D6-E6 -> 0 | G6: 0 | H6: 0 | I6: =I5+G6-H6 -> 0
D7: 0 | E7: 0 | F7: =F6+D7-E7 -> 0 | G7: 0 | H7: 0 | I7: =I6+G7-H7 -> 0
D8: 0 | E8: 0 | F8: =F7+D8-E8 -> 0 | G8: 0 | H8: 0 | I8: =I7+G8-H8 -> 0
D9: 0 | E9: 0 | F9: =F8+D9-E9 -> 0 | G9: 0 | H9: 0 | I9: =I8+G9-H9 -> 0
D10: 0 | E10: 0 | F10: =F9+D10-E10 -> 0 | G10: 0 | H10: 0 | I10: =I9+G10-H10 -> 0
D11: 0 | E11: 0 | F11: =F10+D11-E11 -> 0 | G11: 0 | H11: 0 | I11: =I10+G11-H11 -> 0
D12: 0 | E12: 0 | F12: =F11+D12-E12 -> 0 | G12: 0 | H12: 0 | I12: =I11+G12-H12 -> 0
D13: 0 | E13: 0 | F13: =F12+D13-E13 -> 0 | G13: 0 | H13: 0 | I13: =I12+G13-H13 -> 0
D14: 0 | E14: 0 | F14: =F13+D14-E14 -> 0 | G14: 0 | H14: 0 | I14: =I13+G14-H14 -> 0
D15: 0 | E15: 0 | F15: =F14+D15-E15 -> 0 | G15: 0 | H15: 0 | I15: =I14+G15-H15 -> 0
D16: 0 | E16: 0 | F16: =F15+D16-E16 -> 0 | G16: 0 | H16: 0 | I16: =I15+G16-H16 -> 0
D17: 0 | E17: 0 | F17: =F16+D17-E17 -> 0 | G17: 0 | H17: 0 | I17: =I16+G17-H17 -> 0
... D40: 0 | E40: 0 | F40: =F39+D40-E40 -> 0 | G40: 0 | H40: 0 | I40: =I39+G40-H40 -> 0
A41: 31/12/202… | B41: Saldo finale | D41: =SUM(D5:D40) -> 0 | E41: =SUM(E5:E40) -> 0 | F41: =F4+D41-E41 -> 0 | G41: =SUM(G5:G40) -> 0 | H41: =SUM(H5:H40) -> 0 | I41: =I4+G41-H41 -> 0
